BEGIN:VCALENDAR
VERSION:2.0
PRODID:-//hacksw/handcal//NONSGML v1.0//EN
BEGIN:VEVENT
SUMMARY:TIR 3D 2 DEPARTS a DAUX 2026
UID:55b66568-d0be-492e-affd-759d7d528094
DTSTART:20260621T060000Z
DTEND:20260621T160000Z
LOCATION:Localisation 257 Chemin des Rivieres 31700 DAUX
CATEGORIES:Sportif
STATUS:
URL;VALUE=URI:https://archersdefonsorbes.sportsregions.fr/evenements/2026/06/21/tir-3d-2-departs-a-daux-2026-2443051
END:VEVENT
END:VCALENDAR
